BEGIN:VCALENDAR
VERSION:2.0
PRODID:Events from www.apparelnews.net
X-WR-CALNAME:Events from www.apparelnews.net
X-WR-CALDESC:Events from www.apparelnews.net
BEGIN:VEVENT
SUMMARY:New York Fashion Week powered by Art Hearts
URL;VALUE=URI:http://www.apparelnews.net/events/2026/sep/10/new-york-fashion-week-powered-socie-def5f08e/?et=26924
DTSTART:20260910
DESCRIPTION;ENCODING=QUOTED-PRINTABLE:https://artheartsfashion.com/

END:VEVENT
END:VCALENDAR
